BEGIN:VCALENDAR
VERSION:2.0
PRODID:-//Autan du Jeu - ECPv6.15.20//NONSGML v1.0//EN
CALSCALE:GREGORIAN
METHOD:PUBLISH
X-WR-CALNAME:Autan du Jeu
X-ORIGINAL-URL:http://autandujeu.al-tournefeuille.fr
X-WR-CALDESC:Évènements pour Autan du Jeu
REFRESH-INTERVAL;VALUE=DURATION:PT1H
X-Robots-Tag:noindex
X-PUBLISHED-TTL:PT1H
BEGIN:VTIMEZONE
TZID:Europe/Paris
BEGIN:DAYLIGHT
TZOFFSETFROM:+0100
TZOFFSETTO:+0200
TZNAME:CEST
DTSTART:20220327T010000
END:DAYLIGHT
BEGIN:STANDARD
TZOFFSETFROM:+0200
TZOFFSETTO:+0100
TZNAME:CET
DTSTART:20221030T010000
END:STANDARD
BEGIN:DAYLIGHT
TZOFFSETFROM:+0100
TZOFFSETTO:+0200
TZNAME:CEST
DTSTART:20230326T010000
END:DAYLIGHT
BEGIN:STANDARD
TZOFFSETFROM:+0200
TZOFFSETTO:+0100
TZNAME:CET
DTSTART:20231029T010000
END:STANDARD
BEGIN:DAYLIGHT
TZOFFSETFROM:+0100
TZOFFSETTO:+0200
TZNAME:CEST
DTSTART:20240331T010000
END:DAYLIGHT
BEGIN:STANDARD
TZOFFSETFROM:+0200
TZOFFSETTO:+0100
TZNAME:CET
DTSTART:20241027T010000
END:STANDARD
END:VTIMEZONE
BEGIN:VEVENT
DTSTART;TZID=Europe/Paris:20231118T143000
DTEND;TZID=Europe/Paris:20231118T190000
DTSTAMP:20260421T051659
CREATED:20231110T084932Z
LAST-MODIFIED:20231121T080925Z
UID:722-1700317800-1700334000@autandujeu.al-tournefeuille.fr
SUMMARY:Scrabble
DESCRIPTION:Après-midi récréative sous la houlette d’Edmée ! \n40 coups – 40 Scrabbles en paires \nDémarrage à 14h30 \nGoûter sur place er repas en soirée \nVous pouvez signaler sur le formulaire que vous recherchez un ou une partenaire \nFormulaire pour vous inscrire au jeu et/ou au repas
URL:http://autandujeu.al-tournefeuille.fr/event/scrabble-23/
LOCATION:Maison de la Citoyenneté\, Place de la Mairie\, Tournefeuille\, 31170\, France
CATEGORIES:Repas Club,Scrabble
END:VEVENT
BEGIN:VEVENT
DTSTART;TZID=Europe/Paris:20231119T103000
DTEND;TZID=Europe/Paris:20231119T190000
DTSTAMP:20260421T051659
CREATED:20231110T093728Z
LAST-MODIFIED:20231121T081005Z
UID:726-1700389800-1700420400@autandujeu.al-tournefeuille.fr
SUMMARY:Jeux de société\, Echecs\, Scrabble...
DESCRIPTION:Après le Marché !\nUn dimanche ludique avec découverte des produits disponibles et/ou à commander avant les fêtes de fin d’année… \nOuverture des locaux à 10h30 dimanche 19 novembre \nRepas associatif sur place à 12h30\, participation de 10€ par adulte et 5€ pour les moins de 18 ans \nPoursuite l’après-midi après le repas sur place \nJeux de société\, Echecs\, Scrabble classique… \nAussi et surtout\, un moment pour échanger avec les membres de l’ALT \nFormulaire pour vous inscrire
URL:http://autandujeu.al-tournefeuille.fr/event/jeux-de-societe-echecs-scrabble/
LOCATION:Maison de la Citoyenneté\, Place de la Mairie\, Tournefeuille\, 31170\, France
CATEGORIES:ALT,Jeux de Société,Repas Club
END:VEVENT
END:VCALENDAR