BEGIN:VCALENDAR
VERSION:2.0
PRODID:-//Autan du Jeu - ECPv6.15.20//NONSGML v1.0//EN
CALSCALE:GREGORIAN
METHOD:PUBLISH
X-ORIGINAL-URL:https://autandujeu.al-tournefeuille.fr
X-WR-CALDESC:Évènements pour Autan du Jeu
REFRESH-INTERVAL;VALUE=DURATION:PT1H
X-Robots-Tag:noindex
X-PUBLISHED-TTL:PT1H
BEGIN:VTIMEZONE
TZID:Europe/Paris
BEGIN:DAYLIGHT
TZOFFSETFROM:+0100
TZOFFSETTO:+0200
TZNAME:CEST
DTSTART:20250330T010000
END:DAYLIGHT
BEGIN:STANDARD
TZOFFSETFROM:+0200
TZOFFSETTO:+0100
TZNAME:CET
DTSTART:20251026T010000
END:STANDARD
BEGIN:DAYLIGHT
TZOFFSETFROM:+0100
TZOFFSETTO:+0200
TZNAME:CEST
DTSTART:20260329T010000
END:DAYLIGHT
BEGIN:STANDARD
TZOFFSETFROM:+0200
TZOFFSETTO:+0100
TZNAME:CET
DTSTART:20261025T010000
END:STANDARD
BEGIN:DAYLIGHT
TZOFFSETFROM:+0100
TZOFFSETTO:+0200
TZNAME:CEST
DTSTART:20270328T010000
END:DAYLIGHT
BEGIN:STANDARD
TZOFFSETFROM:+0200
TZOFFSETTO:+0100
TZNAME:CET
DTSTART:20271031T010000
END:STANDARD
END:VTIMEZONE
BEGIN:VEVENT
DTSTART;TZID=Europe/Paris:20260313T160000
DTEND;TZID=Europe/Paris:20260313T200000
DTSTAMP:20260423T161810
CREATED:20260226T114236Z
LAST-MODIFIED:20260226T114236Z
UID:2082-1773417600-1773432000@autandujeu.al-tournefeuille.fr
SUMMARY:Scrabble - simultanés
DESCRIPTION:16H partie normale \n18H partie joker
URL:https://autandujeu.al-tournefeuille.fr/event/scrabble-simultanes-2/
END:VEVENT
BEGIN:VEVENT
DTSTART;TZID=Europe/Paris:20260313T180000
DTEND;TZID=Europe/Paris:20260313T200000
DTSTAMP:20260423T161810
CREATED:20260215T125107Z
LAST-MODIFIED:20260215T125107Z
UID:2064-1773424800-1773432000@autandujeu.al-tournefeuille.fr
SUMMARY:Jeux de société et Tarot
DESCRIPTION:
URL:https://autandujeu.al-tournefeuille.fr/event/jeux-de-societe-et-tarot-6/
END:VEVENT
END:VCALENDAR