BEGIN:VCALENDAR
VERSION:2.0
PRODID:-//Autan du Jeu - ECPv6.15.20//NONSGML v1.0//EN
CALSCALE:GREGORIAN
METHOD:PUBLISH
X-WR-CALNAME:Autan du Jeu
X-ORIGINAL-URL:https://autandujeu.al-tournefeuille.fr
X-WR-CALDESC:Évènements pour Autan du Jeu
REFRESH-INTERVAL;VALUE=DURATION:PT1H
X-Robots-Tag:noindex
X-PUBLISHED-TTL:PT1H
BEGIN:VTIMEZONE
TZID:Europe/Paris
BEGIN:DAYLIGHT
TZOFFSETFROM:+0100
TZOFFSETTO:+0200
TZNAME:CEST
DTSTART:20250330T010000
END:DAYLIGHT
BEGIN:STANDARD
TZOFFSETFROM:+0200
TZOFFSETTO:+0100
TZNAME:CET
DTSTART:20251026T010000
END:STANDARD
BEGIN:DAYLIGHT
TZOFFSETFROM:+0100
TZOFFSETTO:+0200
TZNAME:CEST
DTSTART:20260329T010000
END:DAYLIGHT
BEGIN:STANDARD
TZOFFSETFROM:+0200
TZOFFSETTO:+0100
TZNAME:CET
DTSTART:20261025T010000
END:STANDARD
BEGIN:DAYLIGHT
TZOFFSETFROM:+0100
TZOFFSETTO:+0200
TZNAME:CEST
DTSTART:20270328T010000
END:DAYLIGHT
BEGIN:STANDARD
TZOFFSETFROM:+0200
TZOFFSETTO:+0100
TZNAME:CET
DTSTART:20271031T010000
END:STANDARD
END:VTIMEZONE
BEGIN:VEVENT
DTSTART;TZID=Europe/Paris:20260420T140000
DTEND;TZID=Europe/Paris:20260420T160000
DTSTAMP:20260420T012353
CREATED:20260417T184029Z
LAST-MODIFIED:20260417T184029Z
UID:2145-1776693600-1776700800@autandujeu.al-tournefeuille.fr
SUMMARY:Scrabble
DESCRIPTION:14H partie 1 \n16H partie 2 \n(arbitres: Pablo\, Edmée)
URL:https://autandujeu.al-tournefeuille.fr/event/scrabble-199/
END:VEVENT
END:VCALENDAR