BEGIN:VCALENDAR
VERSION:2.0
PRODID:-//Autan du Jeu - ECPv6.15.20//NONSGML v1.0//EN
CALSCALE:GREGORIAN
METHOD:PUBLISH
X-WR-CALNAME:Autan du Jeu
X-ORIGINAL-URL:https://autandujeu.al-tournefeuille.fr
X-WR-CALDESC:Évènements pour Autan du Jeu
REFRESH-INTERVAL;VALUE=DURATION:PT1H
X-Robots-Tag:noindex
X-PUBLISHED-TTL:PT1H
BEGIN:VTIMEZONE
TZID:Europe/Paris
BEGIN:DAYLIGHT
TZOFFSETFROM:+0100
TZOFFSETTO:+0200
TZNAME:CEST
DTSTART:20250330T010000
END:DAYLIGHT
BEGIN:STANDARD
TZOFFSETFROM:+0200
TZOFFSETTO:+0100
TZNAME:CET
DTSTART:20251026T010000
END:STANDARD
BEGIN:DAYLIGHT
TZOFFSETFROM:+0100
TZOFFSETTO:+0200
TZNAME:CEST
DTSTART:20260329T010000
END:DAYLIGHT
BEGIN:STANDARD
TZOFFSETFROM:+0200
TZOFFSETTO:+0100
TZNAME:CET
DTSTART:20261025T010000
END:STANDARD
BEGIN:DAYLIGHT
TZOFFSETFROM:+0100
TZOFFSETTO:+0200
TZNAME:CEST
DTSTART:20270328T010000
END:DAYLIGHT
BEGIN:STANDARD
TZOFFSETFROM:+0200
TZOFFSETTO:+0100
TZNAME:CET
DTSTART:20271031T010000
END:STANDARD
END:VTIMEZONE
BEGIN:VEVENT
DTSTART;TZID=Europe/Paris:20260529T160000
DTEND;TZID=Europe/Paris:20260529T200000
DTSTAMP:20260420T154157
CREATED:20260417T190748Z
LAST-MODIFIED:20260417T190748Z
UID:2195-1780070400-1780084800@autandujeu.al-tournefeuille.fr
SUMMARY:Scrabble
DESCRIPTION:16H partie 1 (sélectionnée par Marie – joker) \n18H partie 2 (normale\, aléatoire)
URL:https://autandujeu.al-tournefeuille.fr/event/scrabble-207/
END:VEVENT
BEGIN:VEVENT
DTSTART;TZID=Europe/Paris:20260529T180000
DTEND;TZID=Europe/Paris:20260529T200000
DTSTAMP:20260420T154157
CREATED:20260417T190818Z
LAST-MODIFIED:20260417T190818Z
UID:2197-1780077600-1780084800@autandujeu.al-tournefeuille.fr
SUMMARY:Tarot et jeux de société
DESCRIPTION:
URL:https://autandujeu.al-tournefeuille.fr/event/tarot-et-jeux-de-societe-6/
END:VEVENT
END:VCALENDAR